BEGIN:VCALENDAR
VERSION:2.0
PRODID:-//Smart IT Professional Magazine - ECPv6.15.3//NONSGML v1.0//EN
CALSCALE:GREGORIAN
METHOD:PUBLISH
X-WR-CALNAME:Smart IT Professional Magazine
X-ORIGINAL-URL:https://smartitprofessional.com
X-WR-CALDESC:Events for Smart IT Professional Magazine
REFRESH-INTERVAL;VALUE=DURATION:PT1H
X-Robots-Tag:noindex
X-PUBLISHED-TTL:PT1H
BEGIN:VTIMEZONE
TZID:America/New_York
BEGIN:DAYLIGHT
TZOFFSETFROM:-0500
TZOFFSETTO:-0400
TZNAME:EDT
DTSTART:20160313T070000
END:DAYLIGHT
BEGIN:STANDARD
TZOFFSETFROM:-0400
TZOFFSETTO:-0500
TZNAME:EST
DTSTART:20161106T060000
END:STANDARD
END:VTIMEZONE
BEGIN:VEVENT
DTSTART;TZID=America/New_York:20160614T100000
DTEND;TZID=America/New_York:20160617T170000
DTSTAMP:20260424T174428
CREATED:20160425T165516Z
LAST-MODIFIED:20160512T012350Z
UID:1273-1465898400-1466182800@smartitprofessional.com
SUMMARY:WWDC 2016
DESCRIPTION:The Apple Worldwide Developers Conference kicks off at the historic Bill Graham Civic Auditorium for an unforgettable Monday as Apple’s renowned developer community comes together to learn about the future of OS X\, iOS\, watchOS\, and tvOS. The Keynote and State of the Union promise exciting reveals\, providing inspiration and new opportunities to continue creating the most innovative apps in the world. End the day by honoring the most remarkable developers of the year at the Apple Design Awards. \nSessions and labs will take place at Moscone West\, where you’ll be the first to get in-depth information on the latest advancements in Apple technologies. Spend the rest of the week learning from over 100 sessions led by Apple engineers and visiting the labs for help directly from Apple experts. Bring your code for guidance on the fundamentals or on incorporating cutting edge features that were just introduced. You can also make an appointment for one-on-one help on user interface design\, app distribution\, marketing\, analytics\, and more. \nEach day at lunchtime you’ll have a chance to take a well-deserved break with talks by industry experts and luminaries. These acclaimed guest speakers will inspire you with detailed accounts of how integrating creativity with technology yields groundbreaking results.
URL:https://smartitprofessional.com/event/wwdc-2016/
LOCATION:Bill Graham Civic Auditorium\, 99 Grove Street\, San Francisco\, CA\, 94102\, United States
CATEGORIES:National Event
END:VEVENT
BEGIN:VEVENT
DTSTART;TZID=America/New_York:20160614T100000
DTEND;TZID=America/New_York:20160616T180000
DTSTAMP:20260424T174428
CREATED:20160427T164933Z
LAST-MODIFIED:20160512T012424Z
UID:1297-1465898400-1466100000@smartitprofessional.com
SUMMARY:E3 2016
DESCRIPTION:E3 is the world’s premier trade show for computer\, video and mobile games and related products. At E3\, the video game industry’s top talent pack the Los Angeles Convention Center\, connecting tens of thousands of the best\, brightest\, and most innovative professionals in the interactive entertainment industry. For three exciting days\, leading-edge companies\, groundbreaking new technologies and never-before-seen products will be showcased. E3 connects you with both new and existing partners and provides unprecedented exposure to emerging markets. E3 is where new worlds of the interactive entertainment industry are inspired. \nIn 2016\, leading computer and video game companies\, business partners\, media and industry analysts from over 100 countries will converge on the Los Angeles Convention Center. E3 2016 will welcome experts\, visionaries and entrepreneurs from all walks of the computer and video game industry. \nE3 is not open to the general public. You must be part of the interactive entertainment industry in order to attend the show\, and you must be able to provide documentation demonstrating your direct and current professional affiliation to this industry. To be considered for registration\, two forms of industry ID must accompany your online application. At least one form of industry ID must contain both your name and the name of the company where you work. Incomplete applications will not be processed and the management of E3 reserves the right to deny any applicant admission. \nE3 is open to trade only. No one under the age of 17 (including infants) will be admitted. THIS POLICY IS STRICTLY ENFORCED. All E3 Attendees are required to show government-issued photo ID (such as a driver’s license or passport) upon request to verify age.
URL:https://smartitprofessional.com/event/e3-2016/
LOCATION:Los Angeles Convention Center\, 1201 S Figueroa St\, Los Angeles\, CA\, 90015\, United States
CATEGORIES:National Event
END:VEVENT
BEGIN:VEVENT
DTSTART;TZID=America/New_York:20160606T080000
DTEND;TZID=America/New_York:20160610T170000
DTSTAMP:20260424T174428
CREATED:20160505T160724Z
LAST-MODIFIED:20160512T012559Z
UID:1402-1465200000-1465578000@smartitprofessional.com
SUMMARY:Social Media Week - Mexico City
DESCRIPTION:SMW is a worldwide event that will take place in 18 cities across four editions in 2016. The global theme in 2016 is “The Invisible Hand: Hidden Forces of Technology (and How We Can Harness it for Good)”. By attending SMW you will learn from the world’s leading experts who share insights\, best practices and emerging trends through talks\, debates and masterclasses. Attendees will also meet the people who are shaping the future of how social media\, technology and mobile is impacting business\, society and culture around the world. \n  \nSocial Media Week is a leading news platform and worldwide conference that curates and shares the best ideas\, innovations and insights into how social media and technology are changing business\, society and culture around the world. Human connectivity is being reimagined and SMW seeks to understand how humanity and technology will come together to change the ways we live\, work and create.
URL:https://smartitprofessional.com/event/social-media-week-mexico-city/
LOCATION:La Universidad de la Comunicación\, Zacatecas 120\, Cuauhtémoc\, Mexico City\, Ciudad de México\, D.F.\, 06700\, Mexico
CATEGORIES:National Event
END:VEVENT
BEGIN:VEVENT
DTSTART;TZID=America/New_York:20160606T080000
DTEND;TZID=America/New_York:20160610T170000
DTSTAMP:20260424T174428
CREATED:20160505T160653Z
LAST-MODIFIED:20160512T012708Z
UID:1399-1465200000-1465578000@smartitprofessional.com
SUMMARY:Social Media Week - Los Angeles
DESCRIPTION:SMW is a worldwide event that will take place in 18 cities across four editions in 2016. The global theme in 2016 is “The Invisible Hand: Hidden Forces of Technology (and How We Can Harness it for Good)”. By attending SMW you will learn from the world’s leading experts who share insights\, best practices and emerging trends through talks\, debates and masterclasses. Attendees will also meet the people who are shaping the future of how social media\, technology and mobile is impacting business\, society and culture around the world. \n  \nSocial Media Week is a leading news platform and worldwide conference that curates and shares the best ideas\, innovations and insights into how social media and technology are changing business\, society and culture around the world. Human connectivity is being reimagined and SMW seeks to understand how humanity and technology will come together to change the ways we live\, work and create. \n 
URL:https://smartitprofessional.com/event/social-media-week-los-angeles/
LOCATION:The Eli and Edythe Broad Stage\, 1310 11th Street\, Santa Monica\, CA\, 90401\, United States
CATEGORIES:National Event
END:VEVENT
BEGIN:VEVENT
DTSTART;TZID=America/New_York:20160606T080000
DTEND;TZID=America/New_York:20160608T170000
DTSTAMP:20260424T174428
CREATED:20160502T162841Z
LAST-MODIFIED:20160512T012836Z
UID:1343-1465200000-1465405200@smartitprofessional.com
SUMMARY:Gartner Tech Growth & Innovation Conference
DESCRIPTION:An event just for technology and telecom providers. Get the insight you need to develop a winning business strategy for today’s fast-moving tech marketplace. Be ready for the next big technology shift. Understand how your market is evolving and where customers are headed. Learn how you can pivot to maximize growth and customer retention.\n \nThe agenda will feature comprehensive tracks to drill down on hot topics you are currently working on. Technologies for today and the future\, business models using innovation and a truly customer-centric sales and marketing organization. We hope you’ll join us and your peers. \n  \nPricing Standard Conference Price US $2\,850\nPublic Sector Price US $2\,225
URL:https://smartitprofessional.com/event/gartner-tech-growth-innovation-conference/
LOCATION:JW Marriott at L.A. Live\, 900 West Olympic Boulevard\, Los Angeles\, CA\, 90015 \, United States
CATEGORIES:National Event
END:VEVENT
BEGIN:VEVENT
DTSTART;TZID=America/New_York:20160602T120000
DTEND;TZID=America/New_York:20160602T130000
DTSTAMP:20260424T174428
CREATED:20160425T152511Z
LAST-MODIFIED:20160512T012928Z
UID:1272-1464868800-1464872400@smartitprofessional.com
SUMMARY:Marketing Writing Bootcamp
DESCRIPTION:When it comes to marketing writing\, truer words have never been spoken. The fact is\, whether you’re crafting emails\, writing blog posts\, drafting press releases\, putting together presentations\, editing videos\, or telling stories—writing is the most important component of your marketing efforts. \nAnd\, as a writer\, it’s not just important you stay at the top of your game—it’s an imperative. That’s why Marketing Writing Bootcamp contains 13 classes tailor-made for anyone tasked with a variety of writing duties. \nFrom presentations to content creation\, ecommerce emails to B2B communication\, blog posts to social media\, we’ve got you covered. We’ll show you how to tailor your writing for various formats\, how to tell a compelling brand story\, how to turn that writing into amazing videos\, and more! \nThe course kicks off with a live Message Strategy class featuring Margot Bloomstein on Thursday\, June 2. \nDuring these 13 classes\, you’ll discover how to master various forms of marketing writing. Plus\, our expert instructors will provide you invaluable information as well as answer your questions in our exclusive Marketing Writing Bootcamp Facebook group.
URL:https://smartitprofessional.com/event/marketing-writing-bootcamp/
LOCATION:MI
CATEGORIES:National Event
END:VEVENT
BEGIN:VEVENT
DTSTART;TZID=America/New_York:20160601T080000
DTEND;TZID=America/New_York:20160603T170000
DTSTAMP:20260424T174428
CREATED:20160502T181859Z
LAST-MODIFIED:20160512T013115Z
UID:1350-1464768000-1464973200@smartitprofessional.com
SUMMARY:Social Media Strategies Summit
DESCRIPTION:We’re working hard to put together a stellar speaker line-up. Here’s a taste of what you can expect:  \nStrategy Development: Reap the rewards of building your social media strategy on a solid foundation of customer relationships and community building.  \nContent Creation & Storytelling: Integrate the power of storytelling in your strategy\, and create content that connects\, inspires\, and converts.   \nSocial Platforms: Find and activate the social platforms that best align with your business strategy.  \nCompany Culture & Leadership: Engage leadership in your social media strategy – and empower your employees across departments to become company advocates.\n \nWHAT YOU’LL LEARN \nThis #SMSsummit features an agenda full of experts ready to share their secrets to success on social media.
URL:https://smartitprofessional.com/event/social-media-strategies-summit/
LOCATION:Wyndham New Yorker\, 481 8th Avenue\, New York\, NY\, 10001\, United States
CATEGORIES:National Event
END:VEVENT
BEGIN:VEVENT
DTSTART;TZID=America/New_York:20160526T080000
DTEND;TZID=America/New_York:20160526T170000
DTSTAMP:20260424T174428
CREATED:20160505T173412Z
LAST-MODIFIED:20160512T013232Z
UID:1407-1464249600-1464282000@smartitprofessional.com
SUMMARY:Columbus Tech - Security Conference
DESCRIPTION:The Columbus Tech-Security Conference features 40-60 vendor exhibits and 8-12 educational speaker sessions discussing current tech-security issues such as cloud security\, email and social media security\, VoIP\, LAN security\, wireless security\, USB drives security & more. Numerous door prizes such as iPads\, Kindles\, $25\, $50 and $100 gift cards and lots more!  You’ll come away with advice and knowledge so you can start proactively protecting your environment from the latest security breaches. Your registration will include your breakfast\, lunch\, conference materials and entrance into the conference sessions and exhibit area.
URL:https://smartitprofessional.com/event/columbus-tech-security-conference/
LOCATION:Quest Conference Centers\, 8405 Pulsar Place \, Columbus\, OH\, 43240\, United States
CATEGORIES:National Event
ORGANIZER;CN="Unnamed Organizer":MAILTO:sales@dataconnectors.com
END:VEVENT
BEGIN:VEVENT
DTSTART;TZID=America/New_York:20160519T081500
DTEND;TZID=America/New_York:20160519T164500
DTSTAMP:20260424T174428
CREATED:20160505T174730Z
LAST-MODIFIED:20160512T013345Z
UID:1418-1463645700-1463676300@smartitprofessional.com
SUMMARY:Toronto Tech - Security Conference
DESCRIPTION:The Toronto Tech-Security Conference features 40-60 vendor exhibits and 8-12 educational speaker sessions discussing current tech-security issues such as cloud security\, email and social media security\, VoIP\, LAN security\, wireless security\, USB drives security & more. Numerous door prizes such as iPads\, Kindles\, $25\, $50 and $100 gift cards and lots more!  You’ll come away with advice and knowledge so you can start proactively protecting your environment from the latest security breaches. To register for this conference\, click on the link in the left column. Your registration will include your breakfast\, lunch\, conference materials and entrance into the conference sessions and exhibit area.
URL:https://smartitprofessional.com/event/toronto-tech-security-conference/
LOCATION:Hyatt Regency Toronto\, 370 King Street West \, Toronto\, Ontario\, M5V 1J9\, Canada
CATEGORIES:National Event
ORGANIZER;CN="Unnamed Organizer":MAILTO:sales@dataconnectors.com
END:VEVENT
BEGIN:VEVENT
DTSTART;TZID=America/New_York:20160519T080000
DTEND;TZID=America/New_York:20160520T170000
DTSTAMP:20260424T174428
CREATED:20160502T203121Z
LAST-MODIFIED:20160512T013459Z
UID:1355-1463644800-1463763600@smartitprofessional.com
SUMMARY:Techspo Toronto 2016
DESCRIPTION:Are you an early adopter of tech products? Looking for a job at a startup? Covering the Toronto tech scene for a publication? Looking to invest in the next Facebook? Or just a plain old tech enthusiast? Then YOU and thousands like you attend TECHSPO Toronto! The Best Part? It’s FREE! \nTECHSPO Toronto is a two day technology expo taking place May 19 – 20\, 2016 at the luxurious Toronto Marriott Downtown Eaton Centre Hotel\, Toronto\, Ontario. TECHSPO Toronto brings together developers\, brands\, marketers\, technology providers\, designers\, innovators and evangelists looking to set the pace in our advanced world of technology. \nShowcasing the next generation of technology & innovation; Contextual Tech\, AR\, VR\, IoT\, Wearables\, Mobile\, Internet\, 3D Print & Emerging Technology\, Exhibitors have the opportunity to show off their companies to thousands of consumers\, the highest caliber investors\, hordes of press\, the most sought after talent\, and the greatest pool of tech enthusiasts looking to celebrate emerging venture. Be prepared to be inspired\, amazed and educated on how these evolving technologies will impact your business for the better. \nAs part of TECHSPO Toronto is a limited attendance event\, DIGIMARCON CANADA 2016 Digital Marketing Conference (digimarconcanada.ca). If the conference is where the learning\, theory and inspiration happens\, then the TECHSPO floor is where the testing\, networking and product interaction takes place. Additionally\, there are many networking opportunities during TECHSPO Toronto including the highlight TECHSPO Networking Dinner Reception. \nTECHSPO Toronto 2016 promises to be better than ever and we’re excited to see all the amazing tech companies and talent that will join us. The TECHSPO floor is free to attend…we hope to see you there! Attendance is limited\, Register today!
URL:https://smartitprofessional.com/event/techspo-toronto-2016/
LOCATION:Toronto Marriott Downtown Eaton Centre Hotel\, 525 Bay Street\, Toronto\, Ontario\, M5G 2L2\, Canada
CATEGORIES:National Event
END:VEVENT
BEGIN:VEVENT
DTSTART;TZID=America/New_York:20160518T080000
DTEND;TZID=America/New_York:20160520T170000
DTSTAMP:20260424T174428
CREATED:20160427T151758Z
LAST-MODIFIED:20160512T013816Z
UID:1292-1463558400-1463763600@smartitprofessional.com
SUMMARY:Google I/O 2016
DESCRIPTION:Google I/O is our annual developer festival with hands-on learning\, technical talks\, and a chance to hear more about Google’s latest developer products.\nGet hands-on with our latest APIs and tools in the developer sandbox.\nPost up at a workstation to work through technical modules at your own pace. Googlers will be on hand to help you out as you work your way through.\nSwing by office hours with Google experts to ask your burning technical questions and to receive one-on-one help with your projects and apps.\nStick around after sessions end for a concert in the amphitheatre and to party together After Hours. We’ll bring the food\, drinks and fun.
URL:https://smartitprofessional.com/event/google-io-2016/
LOCATION:Shoreline Amphitheatre\, 1 Amphitheatre Pkwy\, Mountain View\, CA\, 94043\, United States
CATEGORIES:National Event
END:VEVENT
BEGIN:VEVENT
DTSTART;TZID=America/New_York:20160512T081500
DTEND;TZID=America/New_York:20160512T163000
DTSTAMP:20260424T174428
CREATED:20160505T173403Z
LAST-MODIFIED:20160512T013925Z
UID:1406-1463040900-1463070600@smartitprofessional.com
SUMMARY:Baltimore Tech - Security Conference
DESCRIPTION:The Baltimore Tech-Security Conference features 40-60 vendor exhibits and 8-12 educational speaker sessions discussing current tech-security issues such as cloud security\, email and social media security\, VoIP\, LAN security\, wireless security\, USB drives security & more. Numerous door prizes such as iPads\, Kindles\, $25\, $50 and $100 gift cards and lots more!  You’ll come away with advice and knowledge so you can start proactively protecting your environment from the latest security breaches.  Your registration will include your breakfast\, lunch\, conference materials and entrance into the conference sessions and exhibit area. 
URL:https://smartitprofessional.com/event/baltimore-tech-security-conference/
LOCATION:Hilton Baltimore\, 401 West Pratt Street \, Baltimore\, MD\, 21201 \, United States
CATEGORIES:National Event
ORGANIZER;CN="Unnamed Organizer":MAILTO:sales@dataconnectors.com
END:VEVENT
BEGIN:VEVENT
DTSTART;TZID=America/New_York:20160509T080000
DTEND;TZID=America/New_York:20160511T170000
DTSTAMP:20260424T174428
CREATED:20160504T163222Z
LAST-MODIFIED:20160512T014126Z
UID:1381-1462780800-1462986000@smartitprofessional.com
SUMMARY:TechCrunch Disrupt New York
DESCRIPTION:TechCrunch Disrupt is the world’s leading authority in debuting revolutionary startups\, introducing game-changing technologies\, and discussing what’s top of mind for the tech industry’s key innovators. Disrupt gathers the best and brightest entrepreneurs\, investors\, hackers\, and tech fans for on-stage interviews\, the Startup Battlefield competition\, a 24-hour Hackathon\, Startup Alley\, Hardware Alley\, and After Parties.\n \nStartup Battlefield brings the world’s top early stage startups together on one stage to compete for the coveted Disrupt Cup\, a $50\,000 prize\, and the attention of media and investors. The judges include TechCrunch editors as well as top VCs and entrepreneurs\, and past winners include names like Dropbox\, Mint\, Yammer\, Zenefits\, and many more. Participation is free and open.\n \nAt the heart of the conference floor lies Startup and Hardware Alley where hundreds of early-stage companies showcase their talent and technology to attendees\, investors and members of the press. With different companies exhibiting each day\, Startup Alley hosts hundreds of exciting companies\, many of which are launching for the first time. Don’t miss the “Wild Card Winner” which is selected by a combination of audience and editorial votes and is awarded a place in the Startup Battlefield competition. \nCrunchMatch is a program designed to introduce investors to entrepreneurs\, based on curated analysis of which startups fit with a given investor’s profile. The goal is to improve the odds that investors and entrepreneurs make a super promising contact. The program is free for Disrupt attendees.   \nHow it works: When an investor registers for Disrupt\, they receive an invitation to complete a questionnaire about their investment interests. Startups participating in Disrupt’s Startup Alley and Battlefield fill out a similar form. When the TechCrunch team finds strong matches\, they will propose that the parties connect at Disrupt at a time and in a private space arranged by the events team. \n 
URL:https://smartitprofessional.com/event/techcrunch-disrupt-new-york/
LOCATION:Brooklyn Cruise Terminal\, 72 Bowne Street\, Brooklyn\, NY\, 11231\, United States
CATEGORIES:National Event
END:VEVENT
BEGIN:VEVENT
DTSTART;TZID=America/New_York:20160502T080000
DTEND;TZID=America/New_York:20160508T170000
DTSTAMP:20260424T174428
CREATED:20160503T153312Z
LAST-MODIFIED:20160512T014235Z
UID:1358-1462176000-1462726800@smartitprofessional.com
SUMMARY:TechWeek Detroit 2016
DESCRIPTION:For 2016\, we are continuing some of our favorite and most popular events of past years as well as introducing some new\, and exciting types of events. Every city is unique\, so stay tuned as we team up with our partners to come up with new\, entertaining or informative events for our attendees.\nFEST – The big festival events that engage tech and entrepreneur community. From hackathons to meet-ups\, networking sessions\, technology company HQ discovery walkthroughs\, cool product demos\, and intimate talks with innovation heroes – with the occasional party thrown in – we aspire to bring together the local technology and innovation community to showcase the best and brightest in your city.\n\nSUMMIT – The world’s finest speakers tackling the latest topics and disruptive trends. The team is excited to introduce you to Techweek’s fantastic speaker sessions. We are passionate about the disruptive and the unusual\, the bravery of entrepreneurs\, and the hard sometimes funny lessons they learn. Overall\, we are delighted by having gifted leaders telling their story and sharing their knowledge with the community. 2015 was a record year for us in terms of truly world class speakers – this year we are out to do even better – welcome to SUMMIT! \n\nLAUNCH – The world’s greatest startup competition. Team LAUNCH is excited for 2016’s competition suite. 2015 was a landmark year for us\, with hundreds of quality startups embracing the Techweek opportunity and delivering their best pitches to investors\, judges and the Techweek community.\nThis year we are excited to take LAUNCH to the next level\, to build on our success with the on-the-ground physical competition\, and to take LAUNCH into the digital domain.  We will be excited to share more of our news with you in the coming weeks – stay tuned! \n\nENTREPRENEUR EXPO – Hall of companies that support entrepreneurs and startups is our showcase hall of companies wrapped around and supporting the LAUNCH competition.Companies with services and products that support entrepreneurs and startups can interact and engage directly with the LAUNCH teams and the Techweek community. Beyond that\, there are always surprises to entertain the crowd – we’ve had DJs\, bars\, dancing robots\, Tesla’s new Model X\, the latest drones\, tech community meetups\, and more. \n\nFOUNDERS HOUSE – VIP invite-only intimate gathering of tech creators\, innovators\, leaders\, and influencers \nAWARDS – Recognizing individuals and companies for their leadership\, innovation and entrepreneurial spirit \n 
URL:https://smartitprofessional.com/event/techweek-detroit-2016/
LOCATION:Unnamed Venue\, Detroit\, MI\, United States
CATEGORIES:National Event
END:VEVENT
BEGIN:VEVENT
DTSTART;TZID=America/New_York:20160502T080000
DTEND;TZID=America/New_York:20160505T170000
DTSTAMP:20260424T174428
CREATED:20160504T201442Z
LAST-MODIFIED:20160512T014319Z
UID:1392-1462176000-1462467600@smartitprofessional.com
SUMMARY:EMC 2016
DESCRIPTION:EMC World is the premier technology forum to help IT practitioners and business decision makers modernize\, automate and transform. EMC World will help you turn plans into actionable next steps.\nGet ready to take in four days of cutting edge Data Center Modernization strategies and technologies that will transform IT and your business — from flash\, software defined storage\, converged infrastructure\, and rack scale architectures to hybrid cloud and modern data lake systems.
URL:https://smartitprofessional.com/event/emc-2016/
LOCATION:The Venetian\, 3355 S Las Vegas Blvd\, Las Vegas\, NV\, 89109\, United States
CATEGORIES:National Event
END:VEVENT
BEGIN:VEVENT
DTSTART;TZID=America/New_York:20160502T080000
DTEND;TZID=America/New_York:20160502T170000
DTSTAMP:20260424T174428
CREATED:20160502T164426Z
LAST-MODIFIED:20160512T014509Z
UID:1344-1462176000-1462208400@smartitprofessional.com
SUMMARY:Commercial UAV Expo logo
DESCRIPTION:With unparalleled education and more exhibitors than at any other commercial drone show\, Commercial UAV Expo is the best choice for industry professionals who need to keep up-to-date with rapidly evolving commercial UAS developments\, trends and technology.\n \nThe inaugural edition of Commercial UAV Expo in 2015 got sky-high marks from industry insiders. Momentum is building for 2016. Put your products in front of an audience eager for the products and services they need to implement or expand their commercial UAV capabilities.\n \nConference sessions focus on UAV/UAS integration for large asset owners in select market segments. Topics include systems selection\, workflow integration\, data management\, legal and regulatory considerations\, outsourcing versus insourcing\, safety and training issues\, deliverables and more.\n \nWith the commercial UAV (Unmanned Aerial Vehicle) market expected to reach over $10 billion in global spending by 2025\, up from an estimated $700 million in 2014\, it’s clear this industry is ready for take-off. \nBut questions remain: \n\nWhat is the best platform to invest in?\nCan sUAS (small Unmanned Aerial Systems) save money over other capture methods? What are the limitations of UAS?\nWhat are other cost considerations\, such as training and insurance?\nHow are others in my industry using UAV technology?\nTo purchase a drone or outsource? What’s the better option?\nHow could we integrate sUAS into current workflows?\nWhat is the latest outlook on the regulatory front for commercial drones?\n\nGet the answers you need at Commercial UAV Expo. \nThe 2015 launch of Commercial UAV Expo is being lauded as a tremendous success\, earning accolades from precision measurement professionals who gathered for three days of education\, networking\, and buying and selling solutions at a conference and exhibition focused on the technology revolutionizing countless industries October 5-7 2015 in Las Vegas. More than 1\,500 drone professionals from 30 countries attended the show\, representing key growth markets for UAS. The bustling exhibit floor had 120 exhibitors from 14 countries showcasing cutting-edge solutions including airframes\, components\, sensors\, software and services. \nSave the date for Commercial UAV Expo 2016 – October 31 – November 2\, 2016 in Las Vegas. \nIn the Conference Program\, large enterprise asset owners and operators discuss the issues they face when implementing UAS\, including systems selection and integration; developing enterprise workflows\, guidelines and policies; data management and integration; and legal\, safety and regulatory considerations. Plenary sessions and panels cover topics of interest to all end-users regardless of industry\, while breakout sessions focus on UAV technology\, applications and opportunities in these vertical industries: \n\nSurveying & Mapping\nCivil Infrastructure\nMining\nConstruction\nProcess\, Power & Utilities\nLaw Enforcement\, Emergency Response and Search & Rescue (SAR)\n\nThe Exhibition puts a range of technology solutions at your fingertips. Qualify and compare products and services from the world’s top airframe manufacturers\, component suppliers\, software developers and service companies. Ask questions of technical leads and other users. Find the solution that’s right for you.
URL:https://smartitprofessional.com/event/commercial-uav-expo-logo/
LOCATION:MGM Grand\, 3799 S Las Vegas Blvd\, Las Vegas\, NV\, 89109\, United States
CATEGORIES:National Event
END:VEVENT
END:VCALENDAR